BEGIN:VCALENDAR
VERSION:2.0
PRODID:-//https://calenda-formation.labocleo.org
X-WR-CALNAME:Calenda
X-WR-TIMEZONE:Europe/Paris
CALSCALE:GREGORIAN
X-WR-CALDESC:Le calendrier des lettres et sciences humaines et sociales
METHOD:PUBLISH
BEGIN:VEVENT
DTSTART;VALUE=DATE:20000705
DTEND;VALUE=DATE:20000706
UID:185625-20000705@calenda.revues.org
SUMMARY:Plus de 500 liens dans Virtual Library Histoire de France
URL:https://calenda-formation.labocleo.org/185625
DESCRIPTION:La section d'Histoire de France de Virtual Library\, catalogue mondial de liens recensés par des universitaires\, dépasse les 500 liens. http://www.revues.org/vlib/ … Más informaciones https://calenda-formation.labocleo.org/185625
LOCATION:
END:VEVENT
END:VCALENDAR
