BEGIN:VCALENDAR
VERSION:2.0
PRODID:-//https://calenda-formation.labocleo.org
X-WR-CALNAME:Calenda
X-WR-TIMEZONE:Europe/Paris
CALSCALE:GREGORIAN
X-WR-CALDESC:Le calendrier des lettres et sciences humaines et sociales
METHOD:PUBLISH
BEGIN:VEVENT
DTSTART;VALUE=DATE:20000927
DTEND;VALUE=DATE:20000928
UID:185681-20000927@calenda.revues.org
SUMMARY:Autour d'Olivier de Serres
URL:https://calenda-formation.labocleo.org/185681
DESCRIPTION:Colloque organisé par l'association d'histoire des Sociétés Rurales et l'EPLEA Olivier de Serres Colloque international à l'occasion de la célébration du quadricentenaire de la première édition du "Théâtre d'agriculture et Mesnage des Champs". Sous-t… Weitere Informationen https://calenda-formation.labocleo.org/185681
LOCATION:Mirabel
END:VEVENT
END:VCALENDAR
