BEGIN:VCALENDAR
VERSION:2.0
PRODID:-//https://calenda-formation.labocleo.org
X-WR-CALNAME:Calenda
X-WR-TIMEZONE:Europe/Paris
CALSCALE:GREGORIAN
X-WR-CALDESC:Le calendrier des lettres et sciences humaines et sociales
METHOD:PUBLISH
BEGIN:VEVENT
DTSTART;VALUE=DATE:20000927
DTEND;VALUE=DATE:20000928
UID:185691-20000927@calenda.revues.org
SUMMARY:Culte et pélerinages à Saint-Michel
URL:https://calenda-formation.labocleo.org/185691
DESCRIPTION:27\, 28\, 29 et 30 septembre 2000                Colloque international organisé par l'Office universitaire d'études normandes\, Université de Caen\, et l'Ecole française de Rome   Ce colloque se tiendra au Centre culturel international de Cerisy-la-Sall… Más informaciones https://calenda-formation.labocleo.org/185691
LOCATION:Cerisy-la-Salle
END:VEVENT
END:VCALENDAR
