BEGIN:VCALENDAR
VERSION:2.0
PRODID:-//https://calenda-formation.labocleo.org
X-WR-CALNAME:Calenda
X-WR-TIMEZONE:Europe/Paris
CALSCALE:GREGORIAN
X-WR-CALDESC:Le calendrier des lettres et sciences humaines et sociales
METHOD:PUBLISH
BEGIN:VEVENT
DTSTART;VALUE=DATE:20001013
DTEND;VALUE=DATE:20001014
UID:185700-20001013@calenda.revues.org
SUMMARY:Lettres et images d'Europe
URL:https://calenda-formation.labocleo.org/185700
DESCRIPTION:Imago Mundi      Lettres et images d'Europe     Château de Grignan          en liaison avec          le Centre de Recherche sur la Littérature des Voyages (CRLV) et le Centre de Recherches Littéraires Pluridisciplinaire de l'Université de Nice … Weitere Informationen https://calenda-formation.labocleo.org/185700
LOCATION:Livron-sur-Drôme
END:VEVENT
END:VCALENDAR
