BEGIN:VCALENDAR
VERSION:2.0
PRODID:-//https://calenda-formation.labocleo.org
X-WR-CALNAME:Calenda
X-WR-TIMEZONE:Europe/Paris
CALSCALE:GREGORIAN
X-WR-CALDESC:Le calendrier des lettres et sciences humaines et sociales
METHOD:PUBLISH
BEGIN:VEVENT
DTSTART;VALUE=DATE:20001116
DTEND;VALUE=DATE:20001117
UID:185711-20001116@calenda.revues.org
SUMMARY:Les artisans dans la ville antique
URL:https://calenda-formation.labocleo.org/185711
DESCRIPTION: Jeudi 16 et vendredi 17 novembre\, Lyon\, Maison de l'Orient Méditerranéen  Organisateurs : Jean-Claude Beal\, Jean-Claude Goyon (Institut d'Archéologie et d'Histoire de l'Antiquité)  Tel. 04 72 71 53 63     Ce colloque est l'aboutissement de l'un des … @plus_info https://calenda-formation.labocleo.org/185711
LOCATION:Lyon
END:VEVENT
END:VCALENDAR
