BEGIN:VCALENDAR
VERSION:2.0
PRODID:-//https://calenda-formation.labocleo.org
X-WR-CALNAME:Calenda
X-WR-TIMEZONE:Europe/Paris
CALSCALE:GREGORIAN
X-WR-CALDESC:Le calendrier des lettres et sciences humaines et sociales
METHOD:PUBLISH
BEGIN:VEVENT
DTSTART;VALUE=DATE:20010319
DTEND;VALUE=DATE:20010320
UID:185785-20010319@calenda.revues.org
SUMMARY:Socio-anthropologie de la santé
URL:https://calenda-formation.labocleo.org/185785
DESCRIPTION:Socio-anthropologie de la santé        Les professionels de santé : pratiques\, identités et déontologie        Jean-Louis Fabiani\, Marc-Eric Gruénais\, Yannick Jaffré\, Jean-Pierre Olivier de Sardan        Séminaire intensif         19-22 mars 2001 … @plus_info https://calenda-formation.labocleo.org/185785
LOCATION:Marseille
END:VEVENT
END:VCALENDAR
