BEGIN:VCALENDAR
VERSION:2.0
PRODID:-//https://calenda-formation.labocleo.org
X-WR-CALNAME:Calenda
X-WR-TIMEZONE:Europe/Paris
CALSCALE:GREGORIAN
X-WR-CALDESC:The calendar for arts, humanities and social sciences
METHOD:PUBLISH
BEGIN:VEVENT
DTSTART;VALUE=DATE:20001001
DTEND;VALUE=DATE:20001002
UID:185837-20001001@calenda.revues.org
SUMMARY:Les religieux et leurs livres
URL:https://calenda-formation.labocleo.org/185837
DESCRIPTION:         Publication des Actes d'un colloque qui s'est tenu à Marseille dans le cadre d'un séminaire de l'Ecole des Hautes Etudes en Sciences Sociales (Centre de la Vieille-Charité à Marseille) consacré aux religieux et leurs livres à l'époque modern… @plus_info https://calenda-formation.labocleo.org/185837
LOCATION:
END:VEVENT
END:VCALENDAR
