BEGIN:VCALENDAR
VERSION:2.0
PRODID:-//https://calenda-formation.labocleo.org
X-WR-CALNAME:Calenda
X-WR-TIMEZONE:Europe/Paris
CALSCALE:GREGORIAN
X-WR-CALDESC:Le calendrier des lettres et sciences humaines et sociales
METHOD:PUBLISH
BEGIN:VEVENT
DTSTART;VALUE=DATE:20001106
DTEND;VALUE=DATE:20001107
UID:185844-20001106@calenda.revues.org
SUMMARY:Penseurs au tournant du siècle
URL:https://calenda-formation.labocleo.org/185844
DESCRIPTION:      Tzvetan TODOROV   (Directeur de recherche CNRS)      Axel HONNETH   (Francfort/M.)      « La lutte pour la reconnaissance »      Entretien réalisé par   Heinz WISMANN\, (EHESS)      le 6 novembre 2000\, lundi\, à 20 heures      Maison He… Más informaciones https://calenda-formation.labocleo.org/185844
LOCATION:París
END:VEVENT
END:VCALENDAR
