BEGIN:VCALENDAR
VERSION:2.0
PRODID:-//https://calenda-formation.labocleo.org
X-WR-CALNAME:Calenda
X-WR-TIMEZONE:Europe/Paris
CALSCALE:GREGORIAN
X-WR-CALDESC:The calendar for arts, humanities and social sciences
METHOD:PUBLISH
BEGIN:VEVENT
DTSTART;VALUE=DATE:20010101
DTEND;VALUE=DATE:20010102
UID:185884-20010101@calenda.revues.org
SUMMARY:Genre et âge dans la relation d'enquête
URL:https://calenda-formation.labocleo.org/185884
DESCRIPTION:               Appel à communications                        MNATP        janvier 2001                        Responsabilité scientifique : Eliane Daphy\, François Faraut\, Agnès Jeanjean et Marie Percot\, équipe ETER (Ethnologie du travail et de s… @plus_info https://calenda-formation.labocleo.org/185884
LOCATION:
END:VEVENT
END:VCALENDAR
