BEGIN:VCALENDAR
VERSION:2.0
PRODID:-//https://calenda-formation.labocleo.org
X-WR-CALNAME:Calenda
X-WR-TIMEZONE:Europe/Paris
CALSCALE:GREGORIAN
X-WR-CALDESC:Le calendrier des lettres et sciences humaines et sociales
METHOD:PUBLISH
BEGIN:VEVENT
DTSTART;VALUE=DATE:20001122
DTEND;VALUE=DATE:20001123
UID:185926-20001122@calenda.revues.org
SUMMARY:Mémoire et société
URL:https://calenda-formation.labocleo.org/185926
DESCRIPTION:Université de Paris 1 – Centre d’Histoire Sociale du 20ème siècle                Séminaire Mémoire et société        Jean-Louis ROBERT                        Mercredi de 11h à 13h        Bibliothèque Jean Maitron        9 rue Malher – 75004 Paris… @plus_info https://calenda-formation.labocleo.org/185926
LOCATION:Paris
END:VEVENT
END:VCALENDAR
