BEGIN:VCALENDAR
VERSION:2.0
PRODID:-//https://calenda-formation.labocleo.org
X-WR-CALNAME:Calenda
X-WR-TIMEZONE:Europe/Paris
CALSCALE:GREGORIAN
X-WR-CALDESC:The calendar for arts, humanities and social sciences
METHOD:PUBLISH
BEGIN:VEVENT
DTSTART;VALUE=DATE:20001017
DTEND;VALUE=DATE:20001018
UID:185932-20001017@calenda.revues.org
SUMMARY:Le Paris populaire
URL:https://calenda-formation.labocleo.org/185932
DESCRIPTION:séminaire de recherche co-organisé par Dominique Kalifa (Université de Rennes)\, Rémi Lenoir (Université de Paris I/CREDHESS)\, Jean-Louis Robert(Université de Paris I/CHS)\, Danielle Tartakowsky (Université de Paris VIII)\, Myriam Tsikounas (Université … @plus_info https://calenda-formation.labocleo.org/185932
LOCATION:Paris
END:VEVENT
END:VCALENDAR
