BEGIN:VCALENDAR
VERSION:2.0
PRODID:-//https://calenda-formation.labocleo.org
X-WR-CALNAME:Calenda
X-WR-TIMEZONE:Europe/Paris
CALSCALE:GREGORIAN
X-WR-CALDESC:The calendar for arts, humanities and social sciences
METHOD:PUBLISH
BEGIN:VEVENT
DTSTART;VALUE=DATE:20001207
DTEND;VALUE=DATE:20001208
UID:185953-20001207@calenda.revues.org
SUMMARY:Voir les couleurs aux XIIe et XIIIe siècles
URL:https://calenda-formation.labocleo.org/185953
DESCRIPTION:Jeudi 7 décembre 2000 à 18h30      par Michel Pastoureau\, directeur d'études à l'Ecole Pratique des Hautes Etudes\, Paris.     Conférence proposée dans le cadre du séminaire d'histoire des sciences et des techniques au Moyen Age\, mis en oeuvre par le … @plus_info https://calenda-formation.labocleo.org/185953
LOCATION:Poitiers
END:VEVENT
END:VCALENDAR
