BEGIN:VCALENDAR
VERSION:2.0
PRODID:-//https://calenda-formation.labocleo.org
X-WR-CALNAME:Calenda
X-WR-TIMEZONE:Europe/Paris
CALSCALE:GREGORIAN
X-WR-CALDESC:Le calendrier des lettres et sciences humaines et sociales
METHOD:PUBLISH
BEGIN:VEVENT
DTSTART;VALUE=DATE:20010119
DTEND;VALUE=DATE:20010120
UID:186050-20010119@calenda.revues.org
SUMMARY:Aux origines du XIXe siècle
URL:https://calenda-formation.labocleo.org/186050
DESCRIPTION: Université de Paris 1- Panthéon- Sorbonne  Centre de recherches en histoire du XIXe siècle   UMR-CNRS\,  avec le soutien de l'Instituto Italiano di Cultura      Instituto ltaliano di Cultura\,   hôtel de Galliffet\, 50 rue de Varenne     Vendredi 1… Más informaciones https://calenda-formation.labocleo.org/186050
LOCATION:París
END:VEVENT
END:VCALENDAR
