BEGIN:VCALENDAR
VERSION:2.0
PRODID:-//https://calenda-formation.labocleo.org
X-WR-CALNAME:Calenda
X-WR-TIMEZONE:Europe/Paris
CALSCALE:GREGORIAN
X-WR-CALDESC:The calendar for arts, humanities and social sciences
METHOD:PUBLISH
BEGIN:VEVENT
DTSTART;VALUE=DATE:20010202
DTEND;VALUE=DATE:20010203
UID:186067-20010202@calenda.revues.org
SUMMARY:Lire les sciences sociales
URL:https://calenda-formation.labocleo.org/186067
DESCRIPTION:  2000 – 2001        Rencontres organisées par Gérard Mauger et Louis Pinto         Immigrations : illusions\, désillusions\, adaptations             Abdelmalek Sayad.- La double absence. Des illusions de l’émigré aux souffrances de l’immigré    Pré… @plus_info https://calenda-formation.labocleo.org/186067
LOCATION:Paris
END:VEVENT
END:VCALENDAR
