BEGIN:VCALENDAR
VERSION:2.0
PRODID:-//https://calenda-formation.labocleo.org
X-WR-CALNAME:Calenda
X-WR-TIMEZONE:Europe/Paris
CALSCALE:GREGORIAN
X-WR-CALDESC:The calendar for arts, humanities and social sciences
METHOD:PUBLISH
BEGIN:VEVENT
DTSTART;VALUE=DATE:20011129
DTEND;VALUE=DATE:20011130
UID:186154-20011129@calenda.revues.org
SUMMARY:Marché(s) et hiérarchie(s)
URL:https://calenda-formation.labocleo.org/186154
DESCRIPTION:Toulouse\, 29-30 novembre 2001 l’École supérieure universitaire de gestion  de l’Université des sciences sociales de Toulouse organise les 29 et 30 novembre 2001 les 10èmes rencontres « Histoire - Gestion - Organisations » sur le thème Marché(s) e… @plus_info https://calenda-formation.labocleo.org/186154
LOCATION:Toulouse
END:VEVENT
END:VCALENDAR
