BEGIN:VCALENDAR
VERSION:2.0
PRODID:-//https://calenda-formation.labocleo.org
X-WR-CALNAME:Calenda
X-WR-TIMEZONE:Europe/Paris
CALSCALE:GREGORIAN
X-WR-CALDESC:Le calendrier des lettres et sciences humaines et sociales
METHOD:PUBLISH
BEGIN:VEVENT
DTSTART;VALUE=DATE:20010516
DTEND;VALUE=DATE:20010517
UID:186157-20010516@calenda.revues.org
SUMMARY:Femmes\, associations\, archives
URL:https://calenda-formation.labocleo.org/186157
DESCRIPTION:Journée d'étude organisée par la section du XIXe siècle des Archives nationales 16 mai 2001 Hôtel de Rohan\, Grande antichambre\, 87\, rue Vieille du Temple\, 75003 Paris (entrée libre) Les associations sont souvent des structures fragiles\, aléat… Más informaciones https://calenda-formation.labocleo.org/186157
LOCATION:París
END:VEVENT
END:VCALENDAR
