BEGIN:VCALENDAR
VERSION:2.0
PRODID:-//https://calenda-formation.labocleo.org
X-WR-CALNAME:Calenda
X-WR-TIMEZONE:Europe/Paris
CALSCALE:GREGORIAN
X-WR-CALDESC:Le calendrier des lettres et sciences humaines et sociales
METHOD:PUBLISH
BEGIN:VEVENT
DTSTART;VALUE=DATE:20010105
DTEND;VALUE=DATE:20010106
UID:186176-20010105@calenda.revues.org
SUMMARY:Représentations\, identité\, histoire
URL:https://calenda-formation.labocleo.org/186176
DESCRIPTION:SEMINAIRES  2000-2001 CARREFOUR THEMATIQUE HISTOIRE DES REPRESENTATIONS IDENTITE ET HISTOIRE MIGRATIONS ET IMAGES 5 JANVIER 2001  - Damon MAYAFFRE (CNRS) " Politique\, histoire et identité: Un discours à la recherche de l’affirmation d’une identi… @plus_info https://calenda-formation.labocleo.org/186176
LOCATION:Nice
END:VEVENT
END:VCALENDAR
