BEGIN:VCALENDAR
VERSION:2.0
PRODID:-//https://calenda-formation.labocleo.org
X-WR-CALNAME:Calenda
X-WR-TIMEZONE:Europe/Paris
CALSCALE:GREGORIAN
X-WR-CALDESC:The calendar for arts, humanities and social sciences
METHOD:PUBLISH
BEGIN:VEVENT
DTSTART;VALUE=DATE:20011025
DTEND;VALUE=DATE:20011026
UID:186229-20011025@calenda.revues.org
SUMMARY:Les grands ensembles à l'épreuve du comparatisme
URL:https://calenda-formation.labocleo.org/186229
DESCRIPTION: Journée d’études organisée par le laboratoire Géophile (UMR Géographie-Cités\, ENS-LSH) et le Centre d’Histoire Urbaine (ENS-LSH)\, avec le soutien du CHS (Université Paris I)\, de la DIV et de l’ACIV (ministère de la Recherche)               Cett… @plus_info https://calenda-formation.labocleo.org/186229
LOCATION:Lyon
END:VEVENT
END:VCALENDAR
