BEGIN:VCALENDAR
VERSION:2.0
PRODID:-//https://calenda-formation.labocleo.org
X-WR-CALNAME:Calenda
X-WR-TIMEZONE:Europe/Paris
CALSCALE:GREGORIAN
X-WR-CALDESC:The calendar for arts, humanities and social sciences
METHOD:PUBLISH
BEGIN:VEVENT
DTSTART;VALUE=DATE:20010609
DTEND;VALUE=DATE:20010610
UID:186393-20010609@calenda.revues.org
SUMMARY:Archéologie\, mémoire en  Méditerranée
URL:https://calenda-formation.labocleo.org/186393
DESCRIPTION:L'archéologie\, enjeu de mémoire en Méditerranée    Athènes\, Carthage\, Beyrouth\, Jérusalem\, Chypre   Journée organisée par l'association Fondation Sud      Dans le cadre de son projet "Lieux de mémoire"\, l'association se propose de sensibiliser le pub… @plus_info https://calenda-formation.labocleo.org/186393
LOCATION:Marseille
END:VEVENT
END:VCALENDAR
