BEGIN:VCALENDAR
VERSION:2.0
PRODID:-//https://calenda-formation.labocleo.org
X-WR-CALNAME:Calenda
X-WR-TIMEZONE:Europe/Paris
CALSCALE:GREGORIAN
X-WR-CALDESC:The calendar for arts, humanities and social sciences
METHOD:PUBLISH
BEGIN:VEVENT
DTSTART;VALUE=DATE:20010920
DTEND;VALUE=DATE:20010921
UID:186425-20010920@calenda.revues.org
SUMMARY:Américanisation et transferts culturels
URL:https://calenda-formation.labocleo.org/186425
DESCRIPTION:Colloque qui se tiendra au Centre des Archives du monde du travail  Americanisation\, Cultural Transfers in the Economic Sphere in the Twentieth Century     Américanisation et transferts culturels dans la sphère économique au XXe siècle      Responsab… @plus_info https://calenda-formation.labocleo.org/186425
LOCATION:Roubaix
END:VEVENT
END:VCALENDAR
