BEGIN:VCALENDAR
VERSION:2.0
PRODID:-//https://calenda-formation.labocleo.org
X-WR-CALNAME:Calenda
X-WR-TIMEZONE:Europe/Paris
CALSCALE:GREGORIAN
X-WR-CALDESC:The calendar for arts, humanities and social sciences
METHOD:PUBLISH
BEGIN:VEVENT
DTSTART;VALUE=DATE:20011203
DTEND;VALUE=DATE:20011204
UID:186466-20011203@calenda.revues.org
SUMMARY:Démographie des minorités
URL:https://calenda-formation.labocleo.org/186466
DESCRIPTION:Quatorzièmes Entretiens du Centre Jacques Cartier   Lyon\, 3 - 5 décembre 2001        Colloque   LA DÉMOGRAPHIE DES MINORITÉS – REGARDS CROISÉS   The Demography of Minorities      THÈME   Le thème des minorités est brûlant car il révèle à la fois l… @plus_info https://calenda-formation.labocleo.org/186466
LOCATION:Lyon
END:VEVENT
END:VCALENDAR
