BEGIN:VCALENDAR
VERSION:2.0
PRODID:-//https://calenda-formation.labocleo.org
X-WR-CALNAME:Calenda
X-WR-TIMEZONE:Europe/Paris
CALSCALE:GREGORIAN
X-WR-CALDESC:The calendar for arts, humanities and social sciences
METHOD:PUBLISH
BEGIN:VEVENT
DTSTART;VALUE=DATE:20011116
DTEND;VALUE=DATE:20011117
UID:186524-20011116@calenda.revues.org
SUMMARY:Image politique au XXe siècle
URL:https://calenda-formation.labocleo.org/186524
DESCRIPTION: Colloque international   “ Haine et séduction dans l’image politique au XXe siècle ”   Musée de l’affiche\, Chaumont\,  16 et 17 novembre 2001     Programme :      10h : ouverture du colloque (Philippe Buton\, Christian Delporte)      Vendredi 16 no… @plus_info https://calenda-formation.labocleo.org/186524
LOCATION:Chaumont
END:VEVENT
END:VCALENDAR
