BEGIN:VCALENDAR
VERSION:2.0
PRODID:-//https://calenda-formation.labocleo.org
X-WR-CALNAME:Calenda
X-WR-TIMEZONE:Europe/Paris
CALSCALE:GREGORIAN
X-WR-CALDESC:Le calendrier des lettres et sciences humaines et sociales
METHOD:PUBLISH
BEGIN:VEVENT
DTSTART;VALUE=DATE:20260423
DTEND;VALUE=DATE:19700102
UID:186602-20260423@calenda.revues.org
SUMMARY:Adresse du site Internet de la revue SIGILA\, revue semestrielle sur le secret
URL:https://calenda-formation.labocleo.org/186602
DESCRIPTION:La revue Sigila\, revue transdisciplinaire franco- portugaise sur le secret\, a maintenant un site Internet. L'adresse de ce site est : http://www.sigila.msh-paris.fr… Weitere Informationen https://calenda-formation.labocleo.org/186602
LOCATION:
END:VEVENT
END:VCALENDAR
