BEGIN:VCALENDAR
VERSION:2.0
PRODID:-//https://calenda-formation.labocleo.org
X-WR-CALNAME:Calenda
X-WR-TIMEZONE:Europe/Paris
CALSCALE:GREGORIAN
X-WR-CALDESC:The calendar for arts, humanities and social sciences
METHOD:PUBLISH
BEGIN:VEVENT
DTSTART;VALUE=DATE:20011024
DTEND;VALUE=DATE:20011025
UID:186644-20011024@calenda.revues.org
SUMMARY:Lieux de culture : l'édition contemporaine
URL:https://calenda-formation.labocleo.org/186644
DESCRIPTION:Pôle pluridisciplinaire Archives\, créations et éditions contemporaines - Institut Mémoires de l'édition contemporaine (IMEC) - Centre de recherche en histoire quantitative (CRHQ)    Séminaire " Lieux de culture : l'édition contemporaine "    Responsa… @plus_info https://calenda-formation.labocleo.org/186644
LOCATION:Caen
END:VEVENT
END:VCALENDAR
