BEGIN:VCALENDAR
VERSION:2.0
PRODID:-//https://calenda-formation.labocleo.org
X-WR-CALNAME:Calenda
X-WR-TIMEZONE:Europe/Paris
CALSCALE:GREGORIAN
X-WR-CALDESC:The calendar for arts, humanities and social sciences
METHOD:PUBLISH
BEGIN:VEVENT
DTSTART;VALUE=DATE:20011128
DTEND;VALUE=DATE:20011129
UID:186728-20011128@calenda.revues.org
SUMMARY:Archives et sciences sociales
URL:https://calenda-formation.labocleo.org/186728
DESCRIPTION:Ecole des Hautes Etudes en Sciences Sociales ———— Archives et sciences sociales Séminaire collectif sous la responsabilité de Éric Brian et Jean Jamin\, directeurs d’études\, Pap Ndiaye\, maître de conférences\, Vincent Duclert\, professeur agrégé 2e… @plus_info https://calenda-formation.labocleo.org/186728
LOCATION:Paris
END:VEVENT
END:VCALENDAR
