BEGIN:VCALENDAR
VERSION:2.0
PRODID:-//https://calenda-formation.labocleo.org
X-WR-CALNAME:Calenda
X-WR-TIMEZONE:Europe/Paris
CALSCALE:GREGORIAN
X-WR-CALDESC:The calendar for arts, humanities and social sciences
METHOD:PUBLISH
BEGIN:VEVENT
DTSTART;VALUE=DATE:20021128
DTEND;VALUE=DATE:20021129
UID:186787-20021128@calenda.revues.org
SUMMARY:L'Egypte à Rome
URL:https://calenda-formation.labocleo.org/186787
DESCRIPTION:Pôle pluridisciplinaire   "VILLE - Architecture\, Urbanisme et Image Virtuelle"         CERLA   COLLOQUE INTERNATIONAL " L'EGYPTE A ROME "      Université de Caen\, Maison de la Recherche en Sciences Humaines\, 28.11 - 30.11.2002      Dir. Philippe… @plus_info https://calenda-formation.labocleo.org/186787
LOCATION:Caen
END:VEVENT
END:VCALENDAR
