BEGIN:VCALENDAR
VERSION:2.0
PRODID:-//https://calenda-formation.labocleo.org
X-WR-CALNAME:Calenda
X-WR-TIMEZONE:Europe/Paris
CALSCALE:GREGORIAN
X-WR-CALDESC:The calendar for arts, humanities and social sciences
METHOD:PUBLISH
BEGIN:VEVENT
DTSTART;VALUE=DATE:20020117
DTEND;VALUE=DATE:20020118
UID:186828-20020117@calenda.revues.org
SUMMARY:Solidarités
URL:https://calenda-formation.labocleo.org/186828
DESCRIPTION:     Le jeu des solidarités rurales et urbaines : influences\, interférences\, contradictions      Centre Pierre Léon / Maison des Sciences de l’Homme d’Aquitaine   Lyon – 17 et 18 janvier 2002                Jeudi 17 janvier 2002         9h30 :… @plus_info https://calenda-formation.labocleo.org/186828
LOCATION:Lyon
END:VEVENT
END:VCALENDAR
