BEGIN:VCALENDAR
VERSION:2.0
PRODID:-//https://calenda-formation.labocleo.org
X-WR-CALNAME:Calenda
X-WR-TIMEZONE:Europe/Paris
CALSCALE:GREGORIAN
X-WR-CALDESC:The calendar for arts, humanities and social sciences
METHOD:PUBLISH
BEGIN:VEVENT
DTSTART;VALUE=DATE:20020214
DTEND;VALUE=DATE:20020215
UID:186850-20020214@calenda.revues.org
SUMMARY:La prison sous Vichy
URL:https://calenda-formation.labocleo.org/186850
DESCRIPTION:Ouvert à tout public sur inscription. Secrétariats : 05.53.98.90.90                05.53.98.90.94      PROGRAMME:    Jeudi 14 Février 2002    -La République et la prison   Michelle Perrot\, professeur émérite\, historienne.    -L'Administration… @plus_info https://calenda-formation.labocleo.org/186850
LOCATION:Copenhagen
END:VEVENT
END:VCALENDAR
