BEGIN:VCALENDAR
VERSION:2.0
PRODID:-//https://calenda-formation.labocleo.org
X-WR-CALNAME:Calenda
X-WR-TIMEZONE:Europe/Paris
CALSCALE:GREGORIAN
X-WR-CALDESC:Le calendrier des lettres et sciences humaines et sociales
METHOD:PUBLISH
BEGIN:VEVENT
DTSTART;VALUE=DATE:20020308
DTEND;VALUE=DATE:20020309
UID:186979-20020308@calenda.revues.org
SUMMARY:Mobilité en Méditerranée
URL:https://calenda-formation.labocleo.org/186979
DESCRIPTION:Séminaire organisé avec   l'École des Hautes Études en Sciences Sociales (IISMM)\,   l'UMR 8585\,   la Maison Méditerranéenne des Sciences de l'Homme  et l'Université de Paris VIII          Rome\, 8-9 mars 2002    Vendredi 8 mars\, 9 h 30    1 -… Más informaciones https://calenda-formation.labocleo.org/186979
LOCATION:Roma
END:VEVENT
END:VCALENDAR
