BEGIN:VCALENDAR
VERSION:2.0
PRODID:-//https://calenda-formation.labocleo.org
X-WR-CALNAME:Calenda
X-WR-TIMEZONE:Europe/Paris
CALSCALE:GREGORIAN
X-WR-CALDESC:Le calendrier des lettres et sciences humaines et sociales
METHOD:PUBLISH
BEGIN:VEVENT
DTSTART;VALUE=DATE:20011112
DTEND;VALUE=DATE:20011113
UID:187022-20011112@calenda.revues.org
SUMMARY:Introduction à l'histoire des sciences
URL:https://calenda-formation.labocleo.org/187022
DESCRIPTION:Séminaire d’introduction à l’histoire des sciences Sciences\, sociétés\, pouvoirs : approches historiques Séminaire co-organisé avec le département d’Histoire de l’École Normale Supérieure   Responsables : Dominique Pestre et Laurent Pinon  Ce sé… Más informaciones https://calenda-formation.labocleo.org/187022
LOCATION:París
END:VEVENT
END:VCALENDAR
