BEGIN:VCALENDAR
VERSION:2.0
PRODID:-//https://calenda-formation.labocleo.org
X-WR-CALNAME:Calenda
X-WR-TIMEZONE:Europe/Paris
CALSCALE:GREGORIAN
X-WR-CALDESC:The calendar for arts, humanities and social sciences
METHOD:PUBLISH
BEGIN:VEVENT
DTSTART;VALUE=DATE:20020603
DTEND;VALUE=DATE:20020604
UID:187054-20020603@calenda.revues.org
SUMMARY:Patrimoine et identité nationale
URL:https://calenda-formation.labocleo.org/187054
DESCRIPTION:Conférence de Ales Pohorsky\, Université Charles de Prague\, organisée par les Ateliers des Terreaux\, dans le cadre d'un cycle de conférences intitulé La restauration monumentale en Europe (XIXe-XXe siècles).         Elle aura lieu à 18h30 précises à l… @plus_info https://calenda-formation.labocleo.org/187054
LOCATION:Lyon
END:VEVENT
END:VCALENDAR
