BEGIN:VCALENDAR
VERSION:2.0
PRODID:-//https://calenda-formation.labocleo.org
X-WR-CALNAME:Calenda
X-WR-TIMEZONE:Europe/Paris
CALSCALE:GREGORIAN
X-WR-CALDESC:Le calendrier des lettres et sciences humaines et sociales
METHOD:PUBLISH
BEGIN:VEVENT
DTSTART;VALUE=DATE:20020430
DTEND;VALUE=DATE:20020501
UID:187087-20020430@calenda.revues.org
SUMMARY:Paradoxe(s) victorien(s)
URL:https://calenda-formation.labocleo.org/187087
DESCRIPTION:Le Groupe de Recherches Anglo-Américaines de Tours (EA 2113) organise un colloque international sur le thème du/des Paradoxe(s) victorien(s)\, les 20-21 septembre 2002 à l'Université François Rabelais\, de Tours.    Appel à communications    La Grande-… Más informaciones https://calenda-formation.labocleo.org/187087
LOCATION:Tours
END:VEVENT
END:VCALENDAR
