BEGIN:VCALENDAR
VERSION:2.0
PRODID:-//https://calenda-formation.labocleo.org
X-WR-CALNAME:Calenda
X-WR-TIMEZONE:Europe/Paris
CALSCALE:GREGORIAN
X-WR-CALDESC:The calendar for arts, humanities and social sciences
METHOD:PUBLISH
BEGIN:VEVENT
DTSTART;VALUE=DATE:20020613
DTEND;VALUE=DATE:20020614
UID:187101-20020613@calenda.revues.org
SUMMARY:Historiographie florentine
URL:https://calenda-formation.labocleo.org/187101
DESCRIPTION:Colloque organisé par l'Université de Lausanne (département d'italien) et le CERPPI (ENS de Lettres et sciences humaines de Lyon) Ce projet s'inscrit dans la lignée d'une série de rencontres scientifiques autour de l'oeuvre de Machiavel où étaient pr… @plus_info https://calenda-formation.labocleo.org/187101
LOCATION:Lausanne
END:VEVENT
END:VCALENDAR
