BEGIN:VCALENDAR
VERSION:2.0
PRODID:-//https://calenda-formation.labocleo.org
X-WR-CALNAME:Calenda
X-WR-TIMEZONE:Europe/Paris
CALSCALE:GREGORIAN
X-WR-CALDESC:The calendar for arts, humanities and social sciences
METHOD:PUBLISH
BEGIN:VEVENT
DTSTART;VALUE=DATE:20020423
DTEND;VALUE=DATE:20020424
UID:187135-20020423@calenda.revues.org
SUMMARY:Le dépôt légal de la radio et de la télévision
URL:https://calenda-formation.labocleo.org/187135
DESCRIPTION: ATELIER DE FORMATION  Le dépôt légal de la radio et de la télévision :   un outil pour la recherche    organisé par le Pôle Images/Sons et Recherches en Sciences Humaines\,   le Programme "Représentations" de l'UMR TELEMME\,   l'INA-Inathèque de Fran… @plus_info https://calenda-formation.labocleo.org/187135
LOCATION:Aix-en-Provence
END:VEVENT
END:VCALENDAR
