BEGIN:VCALENDAR
VERSION:2.0
PRODID:-//https://calenda-formation.labocleo.org
X-WR-CALNAME:Calenda
X-WR-TIMEZONE:Europe/Paris
CALSCALE:GREGORIAN
X-WR-CALDESC:The calendar for arts, humanities and social sciences
METHOD:PUBLISH
BEGIN:VEVENT
DTSTART;VALUE=DATE:20020705
DTEND;VALUE=DATE:20020706
UID:187168-20020705@calenda.revues.org
SUMMARY:Théories et pratiques de la violence contemporaine
URL:https://calenda-formation.labocleo.org/187168
DESCRIPTION:Ecole doctorale de l’EHESS / Formation doctorale de sociologie de l’EHESS Avec l’appui de Hamit Bozarslan\, Lucette Valensi\, Michael Werner Appel à communication  Journées d’études doctorales interdisciplinaires Jeudi 28 et vendredi 29 Novembre… @plus_info https://calenda-formation.labocleo.org/187168
LOCATION:Paris
END:VEVENT
END:VCALENDAR
