BEGIN:VCALENDAR
VERSION:2.0
PRODID:-//https://calenda-formation.labocleo.org
X-WR-CALNAME:Calenda
X-WR-TIMEZONE:Europe/Paris
CALSCALE:GREGORIAN
X-WR-CALDESC:Le calendrier des lettres et sciences humaines et sociales
METHOD:PUBLISH
BEGIN:VEVENT
DTSTART;VALUE=DATE:20020711
DTEND;VALUE=DATE:20020712
UID:187212-20020711@calenda.revues.org
SUMMARY:Lodges\, Chapters and Orders
URL:https://calenda-formation.labocleo.org/187212
DESCRIPTION: An international conference hosted by:            The Centre for Research into Freemasonry            The Centre for Gender Studies in Europe  At Halifax Hall\, University of Sheffield\, 11-13 July 2002.  Conference organisers: Professors Andrew Presc… @plus_info https://calenda-formation.labocleo.org/187212
LOCATION:Sheffield
END:VEVENT
END:VCALENDAR
