BEGIN:VCALENDAR
VERSION:2.0
PRODID:-//https://calenda-formation.labocleo.org
X-WR-CALNAME:Calenda
X-WR-TIMEZONE:Europe/Paris
CALSCALE:GREGORIAN
X-WR-CALDESC:Le calendrier des lettres et sciences humaines et sociales
METHOD:PUBLISH
BEGIN:VEVENT
DTSTART;VALUE=DATE:20021231
DTEND;VALUE=DATE:20030101
UID:187258-20021231@calenda.revues.org
SUMMARY:La discussion en éducation et en formation
URL:https://calenda-formation.labocleo.org/187258
DESCRIPTION:Le LIRDEF (Institut Universitaire de Formation des Maîtres de l’Académie de Montpellier)   et   Le CERFEE (Université Paul Valéry Montpellier 3)      La discussion en éducation et en   formation : Socialisation\, langage\, réflexivité\, identité\, rappor… Weitere Informationen https://calenda-formation.labocleo.org/187258
LOCATION:Montpellier
END:VEVENT
END:VCALENDAR
