BEGIN:VCALENDAR
VERSION:2.0
PRODID:-//https://calenda-formation.labocleo.org
X-WR-CALNAME:Calenda
X-WR-TIMEZONE:Europe/Paris
CALSCALE:GREGORIAN
X-WR-CALDESC:Le calendrier des lettres et sciences humaines et sociales
METHOD:PUBLISH
BEGIN:VEVENT
DTSTART;VALUE=DATE:20021020
DTEND;VALUE=DATE:20021021
UID:187259-20021020@calenda.revues.org
SUMMARY:Rencontre francophone sur le document numérique
URL:https://calenda-formation.labocleo.org/187259
DESCRIPTION:Conférence Fédérative sur le Document (CFD'02) Hammamet - Tunisie 20-23 octobre 2002 http://www.loria.fr/conferences/cfd… @plus_info https://calenda-formation.labocleo.org/187259
LOCATION:Hammamet
END:VEVENT
END:VCALENDAR
