BEGIN:VCALENDAR
VERSION:2.0
PRODID:-//https://calenda-formation.labocleo.org
X-WR-CALNAME:Calenda
X-WR-TIMEZONE:Europe/Paris
CALSCALE:GREGORIAN
X-WR-CALDESC:The calendar for arts, humanities and social sciences
METHOD:PUBLISH
BEGIN:VEVENT
DTSTART;VALUE=DATE:20020915
DTEND;VALUE=DATE:20020916
UID:187276-20020915@calenda.revues.org
SUMMARY:Material Culture of Knowledge in c18
URL:https://calenda-formation.labocleo.org/187276
DESCRIPTION:International Society for Eighteenth-Century Studies Quadrennial Congress\, Los Angeles\, 3-10 August 2003 Call for papers for session "The Objects of Enlightenment: The Material Culture of Knowledge" This interdisciplinary session explores the role of… @plus_info https://calenda-formation.labocleo.org/187276
LOCATION:Los Angeles
END:VEVENT
END:VCALENDAR
