BEGIN:VCALENDAR
VERSION:2.0
PRODID:-//https://calenda-formation.labocleo.org
X-WR-CALNAME:Calenda
X-WR-TIMEZONE:Europe/Paris
CALSCALE:GREGORIAN
X-WR-CALDESC:Le calendrier des lettres et sciences humaines et sociales
METHOD:PUBLISH
BEGIN:VEVENT
DTSTART;VALUE=DATE:20021128
DTEND;VALUE=DATE:20021129
UID:187288-20021128@calenda.revues.org
SUMMARY:Les publics de la culture
URL:https://calenda-formation.labocleo.org/187288
DESCRIPTION: Présentation     Le Département des études et de la prospective (DEP) organise\, en collaboration avec l’OFCE (Fondation Nationale des Sciences Politiques) et en partenariat avec le Musée du Louvre\, un colloque international avec l'ambition de tenter… Más informaciones https://calenda-formation.labocleo.org/187288
LOCATION:París
END:VEVENT
END:VCALENDAR
