BEGIN:VCALENDAR
VERSION:2.0
PRODID:-//https://calenda-formation.labocleo.org
X-WR-CALNAME:Calenda
X-WR-TIMEZONE:Europe/Paris
CALSCALE:GREGORIAN
X-WR-CALDESC:O calendário de letras e de ciências sociais e humanas
METHOD:PUBLISH
BEGIN:VEVENT
DTSTART;VALUE=DATE:20021018
DTEND;VALUE=DATE:20021019
UID:187351-20021018@calenda.revues.org
SUMMARY:Archives judiciaires et répression après 1945
URL:https://calenda-formation.labocleo.org/187351
DESCRIPTION:   La poursuite et la condamnation de la collaboration après la Seconde Guerre mondiale\, ainsi que l'exécution des peines ont conduit à la production d'une masse d'archives\, dont les dossiers pénaux sont les plus connus. Ces archives sont une source … @plus_info https://calenda-formation.labocleo.org/187351
LOCATION:Bruxelas
END:VEVENT
END:VCALENDAR
