BEGIN:VCALENDAR
VERSION:2.0
PRODID:-//https://calenda-formation.labocleo.org
X-WR-CALNAME:Calenda
X-WR-TIMEZONE:Europe/Paris
CALSCALE:GREGORIAN
X-WR-CALDESC:Le calendrier des lettres et sciences humaines et sociales
METHOD:PUBLISH
BEGIN:VEVENT
DTSTART;VALUE=DATE:20020927
DTEND;VALUE=DATE:20020928
UID:187369-20020927@calenda.revues.org
SUMMARY:Les Pyrénées
URL:https://calenda-formation.labocleo.org/187369
DESCRIPTION:Cycle de conférences  “Vivre les Pyrénées”  La Maison du Savoir  65150 Saint-Laurent de Neste    Au delà des paysages et des clichés\, les Pyrénées d’aujourd’hui abritent une société originale et complexe marquée par le poids de son histoire\, la fragi… Más informaciones https://calenda-formation.labocleo.org/187369
LOCATION:
END:VEVENT
END:VCALENDAR
