BEGIN:VCALENDAR
VERSION:2.0
PRODID:-//https://calenda-formation.labocleo.org
X-WR-CALNAME:Calenda
X-WR-TIMEZONE:Europe/Paris
CALSCALE:GREGORIAN
X-WR-CALDESC:The calendar for arts, humanities and social sciences
METHOD:PUBLISH
BEGIN:VEVENT
DTSTART;VALUE=DATE:20021107
DTEND;VALUE=DATE:20021108
UID:187427-20021107@calenda.revues.org
SUMMARY:Crise et conscience de crise
URL:https://calenda-formation.labocleo.org/187427
DESCRIPTION:Responsables  Geneviève Dreyfus-Armand\, Robert Frank\, Marie-Françoise Lévy\, Michelle Zancarini-Fournel    Coordination  Maryvonne Le Puloch    Séminaire de recherche (Université de Paris I/IHTP)       Le groupe de recherche « Crises et conscience… @plus_info https://calenda-formation.labocleo.org/187427
LOCATION:Paris
END:VEVENT
END:VCALENDAR
