BEGIN:VCALENDAR
VERSION:2.0
PRODID:-//https://calenda-formation.labocleo.org
X-WR-CALNAME:Calenda
X-WR-TIMEZONE:Europe/Paris
CALSCALE:GREGORIAN
X-WR-CALDESC:The calendar for arts, humanities and social sciences
METHOD:PUBLISH
BEGIN:VEVENT
DTSTART;VALUE=DATE:20021127
DTEND;VALUE=DATE:20021128
UID:187475-20021127@calenda.revues.org
SUMMARY:Les mécanismes guerriers
URL:https://calenda-formation.labocleo.org/187475
DESCRIPTION:Journée d’études : « Les mécanismes guerriers » Journée du 27 novembre 2002 (La salle sera indiquée sur le tableau d’affichage)     Programme de la journée :    -10h :  Christophe Premat : présentation du laboratoire et du concept de « mé… @plus_info https://calenda-formation.labocleo.org/187475
LOCATION:Lyon
END:VEVENT
END:VCALENDAR
