BEGIN:VCALENDAR
VERSION:2.0
PRODID:-//https://calenda-formation.labocleo.org
X-WR-CALNAME:Calenda
X-WR-TIMEZONE:Europe/Paris
CALSCALE:GREGORIAN
X-WR-CALDESC:The calendar for arts, humanities and social sciences
METHOD:PUBLISH
BEGIN:VEVENT
DTSTART;VALUE=DATE:20021209
DTEND;VALUE=DATE:20021210
UID:187597-20021209@calenda.revues.org
SUMMARY:Rivages d'échanges\, rivages de solidarité
URL:https://calenda-formation.labocleo.org/187597
DESCRIPTION:Lundi 9 décembre 2002 Aix-en-Provence 14h00 Faculté de Droit\, Amphi David Cérémonie d'ouverture - M. Jean-Marc MONTEIL\, Directeur de l'Enseignement Supérieur. - M. le Président du HCCI (Haut Conseil à la Coopération). - M. Be… @plus_info https://calenda-formation.labocleo.org/187597
LOCATION:Marseille
END:VEVENT
END:VCALENDAR
