BEGIN:VCALENDAR
VERSION:2.0
PRODID:-//https://calenda-formation.labocleo.org
X-WR-CALNAME:Calenda
X-WR-TIMEZONE:Europe/Paris
CALSCALE:GREGORIAN
X-WR-CALDESC:The calendar for arts, humanities and social sciences
METHOD:PUBLISH
BEGIN:VEVENT
DTSTART;VALUE=DATE:20021206
DTEND;VALUE=DATE:20021207
UID:187617-20021206@calenda.revues.org
SUMMARY:Les Noirs dans les Mondes Ibériques
URL:https://calenda-formation.labocleo.org/187617
DESCRIPTION:Le séminaire poursuivra la problématique générale présentée l'année dernière sur l'esclavage urbain dans les mondes ibériques. Des questions portant sur le type de sources\, sur les instances juridiques\, le rôle éventuel de la parenté dans la recompos… @plus_info https://calenda-formation.labocleo.org/187617
LOCATION:Paris
END:VEVENT
END:VCALENDAR
