BEGIN:VCALENDAR
VERSION:2.0
PRODID:-//https://calenda-formation.labocleo.org
X-WR-CALNAME:Calenda
X-WR-TIMEZONE:Europe/Paris
CALSCALE:GREGORIAN
X-WR-CALDESC:O calendário de letras e de ciências sociais e humanas
METHOD:PUBLISH
BEGIN:VEVENT
DTSTART;VALUE=DATE:20021202
DTEND;VALUE=DATE:20021203
UID:187640-20021202@calenda.revues.org
SUMMARY:Religions\, conjugalités et parentalités
URL:https://calenda-formation.labocleo.org/187640
DESCRIPTION:Danièle Hervieu-Léger\, Erwan Dianteill\, Régine Azria\, Charles Mopsik\, Martine Gross\, Sophie Nizard\, Nicolas de Brémont d’Ars  Centre d’Études Interdisciplinaires des Faits Religieux(CEIFR) RELIGIONS\, CONJUGALITES et PARENTALITES 1e et 3e lundis d… @plus_info https://calenda-formation.labocleo.org/187640
LOCATION:Paris
END:VEVENT
END:VCALENDAR
