BEGIN:VCALENDAR
VERSION:2.0
PRODID:-//https://calenda-formation.labocleo.org
X-WR-CALNAME:Calenda
X-WR-TIMEZONE:Europe/Paris
CALSCALE:GREGORIAN
X-WR-CALDESC:The calendar for arts, humanities and social sciences
METHOD:PUBLISH
BEGIN:VEVENT
DTSTART;VALUE=DATE:20021119
DTEND;VALUE=DATE:20021120
UID:187659-20021119@calenda.revues.org
SUMMARY:La ville des sciences sociales
URL:https://calenda-formation.labocleo.org/187659
DESCRIPTION:Dans l'ouvrage La Ville des sciences sociales (Belin\, 2001)\, comme dans le séminaire qui l'avait préparé\, il s'agissait d'étudier une série de constructions savantes de l'objet "ville" en prenant pour terrain d'enquête des livres: leurs conditions de… @plus_info https://calenda-formation.labocleo.org/187659
LOCATION:Paris
END:VEVENT
END:VCALENDAR
