BEGIN:VCALENDAR
VERSION:2.0
PRODID:-//https://calenda-formation.labocleo.org
X-WR-CALNAME:Calenda
X-WR-TIMEZONE:Europe/Paris
CALSCALE:GREGORIAN
X-WR-CALDESC:The calendar for arts, humanities and social sciences
METHOD:PUBLISH
BEGIN:VEVENT
DTSTART;VALUE=DATE:20021211
DTEND;VALUE=DATE:20021212
UID:187668-20021211@calenda.revues.org
SUMMARY:Cultures et matrices matérielles XVIe-XVIIe siècle
URL:https://calenda-formation.labocleo.org/187668
DESCRIPTION:-11 décembre 2002: D. Tinkova ( Université Charles de Prague): L'infanticide\, la question du crime\, de la misère et de la folie à l'époque des Lumières  -22 janvier 2003: L'invention d'une culture de cour\, XVIe-XVIIe siècle  - 05 février 2003: Image… @plus_info https://calenda-formation.labocleo.org/187668
LOCATION:Villetaneuse
END:VEVENT
END:VCALENDAR
