BEGIN:VCALENDAR
VERSION:2.0
PRODID:-//https://calenda-formation.labocleo.org
X-WR-CALNAME:Calenda
X-WR-TIMEZONE:Europe/Paris
CALSCALE:GREGORIAN
X-WR-CALDESC:Le calendrier des lettres et sciences humaines et sociales
METHOD:PUBLISH
BEGIN:VEVENT
DTSTART;VALUE=DATE:20030330
DTEND;VALUE=DATE:20030331
UID:187694-20030330@calenda.revues.org
SUMMARY:Mémoires de la guerre d'Espagne
URL:https://calenda-formation.labocleo.org/187694
DESCRIPTION:Lundi 31 mars 2003 à l'auditorium du Musée de l’Armée (Hôtel national des Invalides)\, à l'occasion de la présentation de l'esposition ¡NO PASARAN ! Images des Brigades internationales dans la guerre d'Espagne. (Musée d’Histoire contemporaine-BDIC\, Hô… @plus_info https://calenda-formation.labocleo.org/187694
LOCATION:Paris
END:VEVENT
END:VCALENDAR
